BEGIN:VCALENDAR
VERSION:2.0
PRODID:-//ChamberMaster//Event Calendar 2.0//EN
METHOD:PUBLISH
X-PUBLISHED-TTL:P3D
REFRESH-INTERVAL:P3D
CALSCALE:GREGORIAN
BEGIN:VEVENT
DTSTART;VALUE=DATE:20071201
DTEND;VALUE=DATE:20071202
TRANSP:TRANSPARENT
X-MICROSOFT-CDO-ALLDAYEVENT:TRUE
SUMMARY:Tooele Christmas Parade
DESCRIPTION:Annual Tooele Christmas Parade!After the Parade Visit with Santa at the City Hall Building\, 90 N. Main Street
X-ALT-DESC;FMTTYPE=text/html:<p><strong>Annual Tooele Christmas Parade!</strong></p><p><strong>After the Parade Visit with Santa at the City Hall Building\, </strong></p><p><strong>90 N. Main Street</strong></p>
LOCATION:Parade Route\, Begin the line up at the High School Parking Lot on Vine Street. Proceed North on 200 West to Utah Ave. then go East to Main Street\, turn South on Main and proceed to 1st South\, go West. Then turn North on 50 West and end at the Veterans Memorial Park.
UID:e.125.88
SEQUENCE:3
DTSTAMP:20260425T022622Z
URL:https://members.tooelechamber.com/events/details/tooele-christmas-parade-12-01-2007-88
END:VEVENT

END:VCALENDAR
