BEGIN:VCALENDAR
VERSION:2.0
PRODID:-//ChamberMaster//Event Calendar 2.0//EN
METHOD:PUBLISH
X-PUBLISHED-TTL:P3D
REFRESH-INTERVAL:P3D
CALSCALE:GREGORIAN
BEGIN:VEVENT
DTSTART:20140516T000000Z
DTEND:20140516T010000Z
X-MICROSOFT-CDO-ALLDAYEVENT:FALSE
SUMMARY:Tooele city 4-H Garden Club Registration Meeting
DESCRIPTION:
X-ALT-DESC;FMTTYPE=text/html:
LOCATION:Tooele City Hall 90 North Main Street
UID:e.125.5087
SEQUENCE:3
DTSTAMP:20260419T182152Z
URL:https://members.tooelechamber.com/events/details/tooele-city-4-h-garden-club-registration-meeting-05-15-2014-5087
END:VEVENT

END:VCALENDAR
