BEGIN:VCALENDAR
VERSION:2.0
PRODID:-//ChamberMaster//Event Calendar 2.0//EN
METHOD:PUBLISH
X-PUBLISHED-TTL:P3D
REFRESH-INTERVAL:P3D
CALSCALE:GREGORIAN
BEGIN:VEVENT
DTSTART;VALUE=DATE:20080705
DTEND;VALUE=DATE:20080706
TRANSP:TRANSPARENT
X-MICROSOFT-CDO-ALLDAYEVENT:TRUE
SUMMARY:Tooele City Arts Council Event
DESCRIPTION:Ty Herndon tickets on sale at Tooele City Hall and Macey's Food and Drug.  Tickets are $5.  All proceeds go towards helping needy families at Christmas time.  Ty Herndon concert is July 5th.  Fireworks after the concert
X-ALT-DESC;FMTTYPE=text/html:Ty Herndon tickets on sale at Tooele City Hall and Macey's Food and Drug.  Tickets are $5.  All proceeds go towards helping needy families at Christmas time.  Ty Herndon concert is July 5th.  Fireworks after the concert
LOCATION:
UID:e.125.434
SEQUENCE:3
DTSTAMP:20260424T153930Z
URL:https://members.tooelechamber.com/events/details/tooele-city-arts-council-event-07-05-2008-434
END:VEVENT

END:VCALENDAR
