BEGIN:VCALENDAR
VERSION:2.0
PRODID:-//ChamberMaster//Event Calendar 2.0//EN
METHOD:PUBLISH
X-PUBLISHED-TTL:P3D
REFRESH-INTERVAL:P3D
CALSCALE:GREGORIAN
BEGIN:VEVENT
DTSTART:20100923T220000Z
DTEND:20100924T000000Z
X-MICROSOFT-CDO-ALLDAYEVENT:FALSE
SUMMARY:Tooele City Arts Council Open House
DESCRIPTION:Tooele City Arts Council Open House \n\n	Thursday\, September 23\, 2010 from 4-6pm\n\n	Location: Tooele Army Depot\n\n	Arts and Crafts Center\n\n	For more information please contact: the Tooele City Arts Council @ (435)843-2142\n\n	or the Tooele Army Depot Arts and Crafts Center @ (435)833-2940
X-ALT-DESC;FMTTYPE=text/html:<p style="text-align: center">\n	<span style="font-size: 22px"><u><strong>Tooele City Arts Council Open House </strong></u><br />\n	Thursday\, September 23\, 2010 from 4-6pm<br />\n	Location: Tooele Army Depot<br />\n	Arts and Crafts Center<br />\n	For more information please contact: the Tooele City Arts Council @ (435)843-2142<br />\n	or the Tooele Army Depot Arts and Crafts Center @ (435)833-2940</span></p>\n
LOCATION:
UID:e.125.3241
SEQUENCE:3
DTSTAMP:20260422T220307Z
URL:https://members.tooelechamber.com/events/details/tooele-city-arts-council-open-house-09-23-2010-3241
END:VEVENT

END:VCALENDAR
