BEGIN:VCALENDAR
VERSION:2.0
PRODID:-//ChamberMaster//Event Calendar 2.0//EN
METHOD:PUBLISH
X-PUBLISHED-TTL:P3D
REFRESH-INTERVAL:P3D
CALSCALE:GREGORIAN
BEGIN:VEVENT
DTSTART;VALUE=DATE:20090612
DTEND;VALUE=DATE:20090613
TRANSP:TRANSPARENT
X-MICROSOFT-CDO-ALLDAYEVENT:TRUE
SUMMARY:Tooele City Field Trip Fridays.
DESCRIPTION:Tooele City Field Trip Fridays. Day FieldTrips for youth ages 1st grade and up.Every week - different location.435-843-2143
X-ALT-DESC;FMTTYPE=text/html:<div><font face="Frutiger-LightCn" size="1"><font face="Frutiger-LightCn" size="1"><p align="center"><font size="4">Tooele City Field Trip Fridays. Day Field</font></p><p align="center"><font size="4">Trips for youth ages 1st grade and up.</font></p><p align="center"><font size="4">Every week - different location.</font></p><p align="center"><font size="4">435-843-2143</font></p></font></font><font face="SquareSerif-Black-DTC" color="#231ce6" size="2"><font face="SquareSerif-Black-DTC" color="#231ce6" size="2"><font face="SquareSerif-Black-DTC" color="#231ce6" size="2"><p align="left">&nbsp\;</p></font></font></font></div><p align="left">&nbsp\;</p>
LOCATION:
UID:e.125.588
SEQUENCE:3
DTSTAMP:20260423T213822Z
URL:https://members.tooelechamber.com/events/details/tooele-city-field-trip-fridays-06-12-2009-588
END:VEVENT

END:VCALENDAR
