BEGIN:VCALENDAR
VERSION:2.0
PRODID:-//ChamberMaster//Event Calendar 2.0//EN
METHOD:PUBLISH
X-PUBLISHED-TTL:P3D
REFRESH-INTERVAL:P3D
CALSCALE:GREGORIAN
BEGIN:VEVENT
DTSTART;VALUE=DATE:20090626
DTEND;VALUE=DATE:20090627
TRANSP:TRANSPARENT
X-MICROSOFT-CDO-ALLDAYEVENT:TRUE
SUMMARY:Tooele City Fridays on Vine.
DESCRIPTION:Tooele City Fridays on Vine. Variousartists perform on Fridays 7pm.Contact: 435-843-2104www.tooelecity.org/TDDA
X-ALT-DESC;FMTTYPE=text/html:<div><font face="Frutiger-LightCn" size="1"><font face="Frutiger-LightCn" size="1"><p align="center"><font size="4">Tooele City Fridays on Vine. Various</font></p><p align="center"><font size="4">artists perform on Fridays 7pm.</font></p><p align="center"><font size="4">Contact: 435-843-2104</font></p><p align="center"><font size="4">www.tooelecity.org/TDDA</font></p></font></font></div>
LOCATION:
UID:e.125.572
SEQUENCE:3
DTSTAMP:20260423T213803Z
URL:https://members.tooelechamber.com/events/details/tooele-city-fridays-on-vine-06-26-2009-572
END:VEVENT

END:VCALENDAR
