BEGIN:VCALENDAR
VERSION:2.0
PRODID:-//ChamberMaster//Event Calendar 2.0//EN
METHOD:PUBLISH
X-PUBLISHED-TTL:P3D
REFRESH-INTERVAL:P3D
CALSCALE:GREGORIAN
BEGIN:VEVENT
DTSTART;VALUE=DATE:20090704
DTEND;VALUE=DATE:20090705
TRANSP:TRANSPARENT
X-MICROSOFT-CDO-ALLDAYEVENT:TRUE
SUMMARY:Tooele City Independence Day Parade
DESCRIPTION:Tooele City Independence Day Parade &Activities. Contact: 435-843-2143
X-ALT-DESC;FMTTYPE=text/html:<div><font face="Frutiger-LightCn" size="1"><font face="Frutiger-LightCn" size="1"><p align="center"><font size="4">Tooele City Independence Day Parade &amp\;</font></p><p align="center"><font size="4">Activities. Contact: 435-843-2143</font></p></font></font></div>
LOCATION:
UID:e.125.1006
SEQUENCE:3
DTSTAMP:20260423T200018Z
URL:https://members.tooelechamber.com/events/details/tooele-city-independence-day-parade-07-04-2009-1006
END:VEVENT

END:VCALENDAR
