BEGIN:VCALENDAR
VERSION:2.0
PRODID:-//ChamberMaster//Event Calendar 2.0//EN
METHOD:PUBLISH
X-PUBLISHED-TTL:P3D
REFRESH-INTERVAL:P3D
CALSCALE:GREGORIAN
BEGIN:VEVENT
DTSTART:20100113T070000Z
DTEND:20100114T065900Z
X-MICROSOFT-CDO-ALLDAYEVENT:FALSE
SUMMARY:Tooele City Planning Commission
DESCRIPTION:Tooele City Planning Commission90 North Main\, Tooele(Council Chambers)Time: 7 pm Meeting for April 8thHas Been Canceled
X-ALT-DESC;FMTTYPE=text/html:<div align="center"><font size="5">Tooele City Planning Commission</font></div><div align="center"><font size="5">90 North Main\, Tooele</font></div><div align="center"><font size="5">(Council Chambers)</font></div><div align="center"><font size="5">Time: 7 pm</font></div><div align="center">&nbsp\;</div><div align="center"><font color="#ff0000" size="5">Meeting for April 8th</font></div><div align="center"><font color="#ff0000" size="5">Has Been Canceled</font></div>
LOCATION:
UID:e.125.1300
SEQUENCE:3
DTSTAMP:20260423T104348Z
URL:https://members.tooelechamber.com/events/details/tooele-city-planning-commission-01-13-2010-1300
END:VEVENT

END:VCALENDAR
