BEGIN:VCALENDAR
VERSION:2.0
PRODID:-//ChamberMaster//Event Calendar 2.0//EN
METHOD:PUBLISH
X-PUBLISHED-TTL:P3D
REFRESH-INTERVAL:P3D
CALSCALE:GREGORIAN
BEGIN:VEVENT
DTSTART;VALUE=DATE:20090601
DTEND;VALUE=DATE:20090602
TRANSP:TRANSPARENT
X-MICROSOFT-CDO-ALLDAYEVENT:TRUE
SUMMARY:Tooele City Summer CRAZE.
DESCRIPTION:Tooele City Summer CRAZE. Day Campsfor youth ages: 1st Grade and up. Everyweek - different theme. 435-843-2143More information to come as we receive it.
X-ALT-DESC;FMTTYPE=text/html:<div><font face="Frutiger-LightCn" size="1"><font face="Frutiger-LightCn" size="1"><p align="center"><font size="5">Tooele City Summer CRAZE. Day Camps</font></p><p align="center"><font size="5">for youth ages: 1st Grade and up. Every</font></p><p align="center"><font size="5">week - different theme. 435-843-2143</font></p><p align="center"><font size="5">More information to come as we receive it.</font></p></font></font></div>
LOCATION:
UID:e.125.586
SEQUENCE:3
DTSTAMP:20260423T232230Z
URL:https://members.tooelechamber.com/events/details/tooele-city-summer-craze-06-01-2009-586
END:VEVENT

END:VCALENDAR
