BEGIN:VCALENDAR
VERSION:2.0
PRODID:-//ChamberMaster//Event Calendar 2.0//EN
METHOD:PUBLISH
X-PUBLISHED-TTL:P3D
REFRESH-INTERVAL:P3D
CALSCALE:GREGORIAN
BEGIN:VEVENT
DTSTART:20090226T000000Z
DTEND:20090226T000000Z
X-MICROSOFT-CDO-ALLDAYEVENT:FALSE
SUMMARY:Tooele County Caucus Meeting
DESCRIPTION:Tooele County Caucus Meeting Wednesday\, February 25th\n Time: 5 pm\n Capitol Building\n Room TBD later through \n Chamber Email system.
X-ALT-DESC;FMTTYPE=text/html:<p align="center"><strong><font size="4">Tooele County Caucus Meeting&nbsp\;</font></strong></p><p align="center"><font face="Verdana"><strong><font size="4">Wednesday\, February 25th<br />&nbsp\;Time: 5 pm<br />&nbsp\;Capitol Building<br />&nbsp\;Room TBD later through <br />&nbsp\;Chamber Email system.</font> </strong></font></p>
LOCATION:
UID:e.125.527
SEQUENCE:3
DTSTAMP:20260424T041327Z
URL:https://members.tooelechamber.com/events/details/tooele-county-caucus-meeting-02-25-2009-527
END:VEVENT

END:VCALENDAR
