BEGIN:VCALENDAR
VERSION:2.0
PRODID:-//ChamberMaster//Event Calendar 2.0//EN
METHOD:PUBLISH
X-PUBLISHED-TTL:P3D
REFRESH-INTERVAL:P3D
CALSCALE:GREGORIAN
BEGIN:VEVENT
DTSTART;VALUE=DATE:20100731
DTEND;VALUE=DATE:20100808
TRANSP:TRANSPARENT
X-MICROSOFT-CDO-ALLDAYEVENT:TRUE
SUMMARY:Tooele County Corporate Games
DESCRIPTION:The 1st Annual Tooele County Corparate Games they are to coincide with the Tooele County Fair July 31st-August 7th\, 2010If you have any questions contact Jan Hatfield @ (801)349-9000
X-ALT-DESC;FMTTYPE=text/html:<div style="text-align: center"><span style="font-family: Courier New"><span style="font-size: x-large">The 1st Annual Tooele County Corparate Games </span></span></div><div style="text-align: center"><span style="font-family: Courier New"><span style="font-size: x-large">they are to coincide with the Tooele County Fair </span></span></div><div style="text-align: center"><span style="font-family: Courier New"><span style="font-size: x-large">July 31st-August 7th\, 2010</span></span></div><div style="text-align: center"><span style="font-family: Courier New"><span style="font-size: x-large">If you have any </span></span></div><div style="text-align: center"><span style="font-family: Courier New"><span style="font-size: x-large">questions contact </span></span></div><div style="text-align: center"><span style="font-family: Courier New"><span style="font-size: x-large">Jan Hatfield @&nbsp\;(801)349-9000</span></span></div><div>&nbsp\;</div>
LOCATION:
UID:e.125.3217
SEQUENCE:3
DTSTAMP:20260423T013046Z
URL:https://members.tooelechamber.com/events/details/tooele-county-corporate-games-07-31-2010-3217
END:VEVENT

END:VCALENDAR
