BEGIN:VCALENDAR
VERSION:2.0
PRODID:-//ChamberMaster//Event Calendar 2.0//EN
METHOD:PUBLISH
X-PUBLISHED-TTL:P3D
REFRESH-INTERVAL:P3D
CALSCALE:GREGORIAN
BEGIN:VEVENT
DTSTART:20110308T013000Z
DTEND:20110308T023000Z
X-MICROSOFT-CDO-ALLDAYEVENT:FALSE
SUMMARY:Tooele County Democratic Party Central Committee Meeting
DESCRIPTION:On the agenda: Committee Formation\, Better Communication strategies\, and a report from the Activities committee. We'll also be trying to disseminate some contact info on our precinct members.
X-ALT-DESC;FMTTYPE=text/html:On the agenda: Committee Formation\, Better Communication strategies\, and a report from the Activities committee. We'll also be trying to disseminate some contact info on our precinct members.
LOCATION:Tooele County Building\, Sheriff's Meeting Room
UID:e.125.3640
SEQUENCE:3
DTSTAMP:20260422T122356Z
URL:https://members.tooelechamber.com/events/details/tooele-county-democratic-party-central-committee-meeting-03-07-2011-3640
END:VEVENT

END:VCALENDAR
