BEGIN:VCALENDAR
VERSION:2.0
PRODID:-//ChamberMaster//Event Calendar 2.0//EN
METHOD:PUBLISH
X-PUBLISHED-TTL:P3D
REFRESH-INTERVAL:P3D
CALSCALE:GREGORIAN
BEGIN:VEVENT
DTSTART:20110225T013000Z
DTEND:20110225T033000Z
X-MICROSOFT-CDO-ALLDAYEVENT:FALSE
SUMMARY:Tooele County Democratic Party Meeting
DESCRIPTION:You're invited to attend our County Central Committee meeting next Thursday (Feb. 24th) at the County Office Auditorium (downstairs) at 6:30 p.m.\n\n\n\nOn the agenda: planning for the county convention\, running for state party offices\, recruitment\, and fundraising.\n\n\n\nJoin us!
X-ALT-DESC;FMTTYPE=text/html:You're invited to attend our County Central Committee meeting next Thursday (Feb. 24th) at the County Office Auditorium (downstairs) at 6:30 p.m.\n<br>\n<br>On the agenda: planning for the county convention\, running for state party offices\, recruitment\, and fundraising.\n<br>\n<br>Join us!
LOCATION:Tooele County Building Auditorium (downstairs)
UID:e.125.3637
SEQUENCE:3
DTSTAMP:20260422T140002Z
URL:https://members.tooelechamber.com/events/details/tooele-county-democratic-party-meeting-02-24-2011-3637
END:VEVENT

END:VCALENDAR
