BEGIN:VCALENDAR
VERSION:2.0
PRODID:-//ChamberMaster//Event Calendar 2.0//EN
METHOD:PUBLISH
X-PUBLISHED-TTL:P3D
REFRESH-INTERVAL:P3D
CALSCALE:GREGORIAN
BEGIN:VEVENT
DTSTART:20120314T010000Z
DTEND:20120314T020000Z
X-MICROSOFT-CDO-ALLDAYEVENT:FALSE
SUMMARY:Tooele County Democratic Party Neighborhood Caucus Meetings
DESCRIPTION:Erda / Lake Point / Stansbury Park:  Stansbury Park Clubhouse\, 1 Country Club Drive\, Stansbury Park.\n\nGrantsville / Wendover: Grantsville Senior Citizens Center\, 120 South Center Street\, Grantsville\n\nTooele / Pine Canyon: Tooele County Building Auditorium\, 47 S. Main\, Tooele\n\nRush Valley / Vernon / Dugway / Stockton / Ophir: Stockton Fire Station\, 207 N. Connor Ave.\, Stockton\n\n\n\nEveryone is welcome.  Please call 435-277-0336 or email tooeledemocrats@gmail.com with any questions.
X-ALT-DESC;FMTTYPE=text/html:<i style="margin-top: 0px\; margin-right: 0px\; margin-bottom: 0px\; margin-left: 0px\; padding-top: 0px\; padding-right: 0px\; padding-bottom: 0px\; padding-left: 0px\; border-top-width: 0px\; border-right-width: 0px\; border-bottom-width: 0px\; border-left-width: 0px\; border-style: initial\; border-color: initial\; border-image: initial\; outline-width: 0px\; outline-style: initial\; outline-color: initial\; vertical-align: baseline\; background-image: initial\; background-attachment: initial\; background-origin: initial\; background-clip: initial\; color: rgb(117\, 117\, 117)\; line-height: 24px\; text-align: left\; ">Erda / Lake Point / Stansbury Park: &nbsp\;Stansbury Park Clubhouse\, 1 Country Club Drive\, Stansbury Park.<br />\nGrantsville / Wendover: Grantsville Senior Citizens Center\, 120 South Center Street\, Grantsville<br />\nTooele / Pine Canyon: Tooele County Building Auditorium\, 47 S. Main\, Tooele<br />\nRush Valley / Vernon / Dugway / Stockton / Ophir: Stockton Fire Station\,&nbsp\;207 N. Connor Ave.\, Stockton<br />\n<br />\nEveryone is welcome. &nbsp\;Please call 435-277-0336 or email tooeledemocrats@gmail.com with any questions.</i>
LOCATION:
UID:e.125.4806
SEQUENCE:3
DTSTAMP:20260421T174504Z
URL:https://members.tooelechamber.com/events/details/tooele-county-democratic-party-neighborhood-caucus-meetings-03-13-2012-4806
END:VEVENT

END:VCALENDAR
