BEGIN:VCALENDAR
VERSION:2.0
PRODID:-//ChamberMaster//Event Calendar 2.0//EN
METHOD:PUBLISH
X-PUBLISHED-TTL:P3D
REFRESH-INTERVAL:P3D
CALSCALE:GREGORIAN
BEGIN:VEVENT
DTSTART;VALUE=DATE:20100619
DTEND;VALUE=DATE:20100620
TRANSP:TRANSPARENT
X-MICROSOFT-CDO-ALLDAYEVENT:TRUE
SUMMARY:Tooele County Demolition Derby
DESCRIPTION:Tooele County Search & Rescue Demolition Derby Saturday\, June 19\, 2010 at the Deseret Peak Complex 2930 West Hwy 112\, Tooele. Gates open @ 4pm derby begins @ 6pm
X-ALT-DESC;FMTTYPE=text/html:<div><font size="1" face="Frutiger-LightCn"><font size="1" face="Frutiger-LightCn"><p align="center"><span style="font-size: x-large">Tooele County Search &amp\; Rescue&nbsp\;Demolition Derby </span></p><p align="center"><span style="font-size: x-large">Saturday\, June 19\, 2010 at the Deseret Peak Complex 2930 West Hwy 112\, Tooele. Gates open @ 4pm derby begins @ 6pm</span></p><p align="center">&nbsp\;</p></font></font></div>
LOCATION:
UID:e.125.1003
SEQUENCE:3
DTSTAMP:20260423T031610Z
URL:https://members.tooelechamber.com/events/details/tooele-county-demolition-derby-06-19-2010-1003
END:VEVENT

END:VCALENDAR
