BEGIN:VCALENDAR
VERSION:2.0
PRODID:-//ChamberMaster//Event Calendar 2.0//EN
METHOD:PUBLISH
X-PUBLISHED-TTL:P3D
REFRESH-INTERVAL:P3D
CALSCALE:GREGORIAN
BEGIN:VEVENT
DTSTART;VALUE=DATE:20100730
DTEND;VALUE=DATE:20100808
TRANSP:TRANSPARENT
X-MICROSOFT-CDO-ALLDAYEVENT:TRUE
SUMMARY:Tooele County Fair
DESCRIPTION:2010 Tooele County Fair Friday\, July 30    Youth Rodeo. . . . . . . 6pmSaturday\, July 31    MX Race    Youth Rodeo. . . . . . . . .11am    Little Miss Tooele County. . . . . . . . . .10am     Miss Tooele County. . . . . . . . . . . . . . 7pm Monday\, Aug 2    4H/Home Arts RegistrationTuesday\, Aug 3    Sports Night - 3 on 3 basketball. . . . . . . . 3pm    Team Doctoring. . . . . . . . . . . . . . .6pmWednesday\, Aug 4    Open Horse Show. . . . . . . . . . . . .6pm    Movie Night. . . . . . . . . . . . . . . . . . .9pmThursday\, Aug 5    Booths\, Home Arts Exhibits\, children's    Art Yard\, Fun Zone\, etc. . . . . . . . . . . . . . . . . .5-9pm    Livestock Weigh-in. . . . . . . . . . . . . . . . .. . . . . . 8-10am     Stockshow Fitting & Showmanship. . . . . . . .  2-5pm    Entertainment. . . . . . . . . . . . . . . . . . . . . . . . . . . .5pm     Opening Ceremonies. . . . . . . . . . . . . . . . . . . . .5pm    Fireman's Muster. . . . . . . . . . . . . . . . . . . . . . . . .6pm    Farm Tuff Competition. . . . . . . . . . . . . . . .  . . . .7pm    Sports Night - Kickball Tournament. . . . . . . . . .7pm    Teen Pool Party. . . . . . . . . . . . . . . . . . . . . . . . . . . .8:30-11pmFriday\, Aug 6    Booths\, Home Arts Exhibits\, Children's     Art Yard\, Fun Zone\, etc. . . . . . . . . . . . . . . . . . . . . . .10am-10pm    Entertainment. . . . . . . .  . . . . . . . . . . . . . . . . . . . .. . .10am-10pm    Livestock Show. . . . . . . . . . . . . . . . . . . . . . . . . . . . . .10am    Softball Tournament. . . . . . . . . . . . . . . . . . . . . . . . . .7pm    Youth Rodeo Events. . . . . . . . . . . . . . . . . . . . . . . . . .7pm    Skydive Utah. . . . . . . . . . . . . . . . . . . . . . . . . . . . . . . . .7:45pm    Ranch Rodeo/Bullriding. . . . . . . . . . . . . . . . . . . . . . . 8pmSaturday\, Aug 7    Booths\, Home Arts Exhibits\, Children's     Art Yard\, Fun Zone\, etc. . . . . . . . . . . . . . . . . . . . . . .10am-10pm    Entertainment. . . . . . . .  . . . . . . . . . . . . . . . . . . . .. . .10am-10pm    Livestock Sale. . . . . . . . . . . . . . . . . . . . . . . . . . . . . . .10am    5K Race . . . . . . . . . . . . . . . . . . . . . . . . . . . . . . . . . . . . 7am    Car Show. . . . . . . . . . . . . . . . . . . . . . . . . . . . . . . . . . . 10am    Skydive Utah. . . . . . . . . . . . . . . . . . . . . . . . . . . . . . . . .5:45pm    Demolition Derby. . . . . . . . . . . . . . . . . . . . . . . . . . . . .6pm    Fireworks following derby
X-ALT-DESC;FMTTYPE=text/html:<div style="text-align: center"><span style="font-size: large"><u><strong>2010 Tooele County Fair </strong></u></span></div><div><strong><span style="font-size: medium">Friday\, July 30</span></strong></div><div><span style="font-size: medium">&nbsp\;&nbsp\;&nbsp\; Youth Rodeo. . . . . . . 6pm</span></div><div><strong><span style="font-size: medium">Saturday\, July 31</span></strong></div><div><span style="font-size: medium">&nbsp\;&nbsp\;&nbsp\; MX Race</span></div><div><span style="font-size: medium">&nbsp\;&nbsp\;&nbsp\; Youth Rodeo. . . . . . . . .11am</span></div><div><span style="font-size: medium">&nbsp\;&nbsp\;&nbsp\; Little Miss Tooele County. . . . . . . . . .10am </span></div><div><span style="font-size: medium">&nbsp\;&nbsp\;&nbsp\; Miss Tooele County. . . . . . . . . . . . . . 7pm </span></div><div><strong><span style="font-size: medium">Monday\, Aug 2</span></strong></div><div><span style="font-size: medium">&nbsp\;&nbsp\;&nbsp\; 4H/Home Arts Registration</span></div><div><strong><span style="font-size: medium">Tuesday\, Aug 3</span></strong></div><div><span style="font-size: medium">&nbsp\;&nbsp\;&nbsp\; Sports Night - 3 on 3 basketball. . . . . . . . 3pm</span></div><div><span style="font-size: medium">&nbsp\;&nbsp\;&nbsp\; Team Doctoring. . . . . . . . . . . . . . .6pm</span></div><div><strong><span style="font-size: medium">Wednesday\, Aug 4</span></strong></div><div><span style="font-size: medium">&nbsp\;&nbsp\;&nbsp\; Open Horse Show. . . . . . . . . . . . .6pm</span></div><div><span style="font-size: medium">&nbsp\;&nbsp\;&nbsp\; Movie Night. . . . . . . . . . . . . . . . . . .9pm</span></div><div><strong><span style="font-size: medium">Thursday\, Aug 5</span></strong></div><div><span style="font-size: medium">&nbsp\;&nbsp\;&nbsp\; Booths\, Home Arts Exhibits\, children's</span></div><div><span style="font-size: medium">&nbsp\;&nbsp\;&nbsp\; Art Yard\, Fun Zone\, etc. . . . . . . . . . . . . . . . . .5-9pm</span></div><div><span style="font-size: medium">&nbsp\;&nbsp\;&nbsp\; Livestock Weigh-in. . . . . . . . . . . . . . . . .. . . . . . 8-10am </span></div><div><span style="font-size: medium">&nbsp\;&nbsp\;&nbsp\; Stockshow Fitting &amp\; Showmanship. . . . . . . .&nbsp\; 2-5pm</span></div><div><span style="font-size: medium">&nbsp\;&nbsp\;&nbsp\; Entertainment. . . . . . . . . . . . . . . . . . . . . . . . . . . .5pm </span></div><div><span style="font-size: medium">&nbsp\;&nbsp\;&nbsp\; Opening Ceremonies. . . . . . . . . . . . . . . . . . . . .5pm</span></div><div><span style="font-size: medium">&nbsp\;&nbsp\;&nbsp\; Fireman's Muster. . . . . . . . . . . . . . . . . . . . . . . . .6pm</span></div><div><span style="font-size: medium">&nbsp\;&nbsp\;&nbsp\; Farm Tuff Competition. . . . . . . . . . . . . . . .&nbsp\; . . . .7pm</span></div><div><span style="font-size: medium">&nbsp\;&nbsp\;&nbsp\; Sports Night - Kickball Tournament. . . . . . . . . .7pm</span></div><div><span style="font-size: medium">&nbsp\;&nbsp\;&nbsp\; Teen Pool Party. . . . . . . . . . . . . . . . . . . . . . . . . . . .8:30-11pm</span></div><div><strong><span style="font-size: medium">Friday\, Aug 6</span></strong></div><div><span style="font-size: medium">&nbsp\;&nbsp\;&nbsp\; Booths\, Home Arts Exhibits\, Children's </span></div><div><span style="font-size: medium">&nbsp\;&nbsp\;&nbsp\; Art Yard\, Fun Zone\, etc. . . . . . . . . . . . . . . . . . . . . . .10am-10pm</span></div><div><span style="font-size: medium">&nbsp\;&nbsp\;&nbsp\; Entertainment. . . . . . . .&nbsp\; . . . . . . . . . . . . . . . . . . . .. . .10am-10pm</span></div><div><span style="font-size: medium">&nbsp\;&nbsp\;&nbsp\; Livestock Show. . . . . . . . . . . . . . . . . . . . . . . . . . . . . .10am</span></div><div><span style="font-size: medium">&nbsp\;&nbsp\;&nbsp\; Softball Tournament. . . . . . . . . . . . . . . . . . . . . . . . . .7pm</span></div><div><span style="font-size: medium">&nbsp\;&nbsp\;&nbsp\; Youth Rodeo Events. . . . . . . . . . . . . . . . . . . . . . . . . .7pm</span></div><div><span style="font-size: medium">&nbsp\;&nbsp\;&nbsp\; Skydive Utah. . . . . . . . . . . . . . . . . . . . . . . . . . . . . . . . .7:45pm</span></div><div><span style="font-size: medium">&nbsp\;&nbsp\;&nbsp\; Ranch Rodeo/Bullriding. . . . . . . . . . . . . . . . . . . . . . . 8pm</span></div><div><strong><span style="font-size: medium">Saturday\, Aug 7</span></strong></div><div><span style="font-size: medium">&nbsp\;&nbsp\;&nbsp\; Booths\, Home Arts Exhibits\, Children's </span><div><span style="font-size: medium">&nbsp\;&nbsp\;&nbsp\; Art Yard\, Fun Zone\, etc. . . . . . . . . . . . . . . . . . . . . . .10am-10pm</span></div><div><span style="font-size: medium">&nbsp\;&nbsp\;&nbsp\; Entertainment. . . . . . . .&nbsp\; . . . . . . . . . . . . . . . . . . . .. . .10am-10pm</span></div><div><span style="font-size: medium">&nbsp\;&nbsp\;&nbsp\; Livestock Sale. . . . . . . . . . . . . . . . . . . . . . . . . . . . . . .10am</span></div><div><span style="font-size: medium">&nbsp\;&nbsp\;&nbsp\; 5K Race . .&nbsp\;. . . . . . . . . . . . . . . . . . . . . . . . . . . . . . . . . . 7am</span></div><div><span style="font-size: medium">&nbsp\;&nbsp\;&nbsp\; Car Show. . . . . . . . . . . . . . . . . . . . . . . . . . . . . . . . . . . 10am</span></div><div><span style="font-size: medium">&nbsp\;&nbsp\;&nbsp\; Skydive Utah. . . . . . . . . . . . . . . . . . . . . . . . . . . . . . . . .5:45pm</span></div><div><span style="font-size: medium">&nbsp\;&nbsp\;&nbsp\; Demolition Derby. . . . . . . . . . . . . . . . . . . . . . . . . . . . .6pm</span></div><div><span style="font-size: medium">&nbsp\;&nbsp\;&nbsp\; Fireworks following derby</span></div></div><div>&nbsp\;&nbsp\;&nbsp\;</div>
LOCATION:
UID:e.125.3184
SEQUENCE:3
DTSTAMP:20260422T234216Z
URL:https://members.tooelechamber.com/events/details/tooele-county-fair-07-30-2010-3184
END:VEVENT

END:VCALENDAR
