BEGIN:VCALENDAR
VERSION:2.0
PRODID:-//ChamberMaster//Event Calendar 2.0//EN
METHOD:PUBLISH
X-PUBLISHED-TTL:P3D
REFRESH-INTERVAL:P3D
CALSCALE:GREGORIAN
BEGIN:VEVENT
DTSTART;VALUE=DATE:20110804
DTEND;VALUE=DATE:20110807
TRANSP:TRANSPARENT
X-MICROSOFT-CDO-ALLDAYEVENT:TRUE
SUMMARY:Tooele County Fair & Livestock Show
DESCRIPTION:Tooele County Fair & Livestock Show\n\n	August 4th-6th\, 2011\n\n	Deseret Peak Complex\n\n	2930 West Hwy 112\, Tooele\n\n	www.deseretpeakcomplex.com
X-ALT-DESC;FMTTYPE=text/html:<p style="text-align: center">\n	<span style="font-size: 20px">Tooele County Fair &amp\; Livestock Show<br />\n	August 4th-6th\, 2011<br />\n	Deseret Peak Complex<br />\n	2930 West Hwy 112\, Tooele<br />\n	<a href="http://www.deseretpeakcomplex.com">www.deseretpeakcomplex.com</a> </span></p>\n
LOCATION:
UID:e.125.3553
SEQUENCE:3
DTSTAMP:20260422T043741Z
URL:https://members.tooelechamber.com/events/details/tooele-county-fair-livestock-show-08-04-2011-3553
END:VEVENT

END:VCALENDAR
