BEGIN:VCALENDAR
VERSION:2.0
PRODID:-//ChamberMaster//Event Calendar 2.0//EN
METHOD:PUBLISH
X-PUBLISHED-TTL:P3D
REFRESH-INTERVAL:P3D
CALSCALE:GREGORIAN
BEGIN:VEVENT
DTSTART:20140517T190000Z
DTEND:20140518T000000Z
X-MICROSOFT-CDO-ALLDAYEVENT:FALSE
SUMMARY:Tooele County Girl Scouts "Girls with Dreams become Women with Vision"
DESCRIPTION:
X-ALT-DESC;FMTTYPE=text/html:
LOCATION:Stansbury High School 5300 North Aberdeen Lane\, Stansbury
UID:e.125.5090
SEQUENCE:3
DTSTAMP:20260419T182152Z
URL:https://members.tooelechamber.com/events/details/tooele-county-girl-scouts-girls-with-dreams-become-women-with-vision-05-17-2014-5090
END:VEVENT

END:VCALENDAR
