BEGIN:VCALENDAR
VERSION:2.0
PRODID:-//ChamberMaster//Event Calendar 2.0//EN
METHOD:PUBLISH
X-PUBLISHED-TTL:P3D
REFRESH-INTERVAL:P3D
CALSCALE:GREGORIAN
BEGIN:VEVENT
DTSTART:20080124T000000Z
DTEND:20080124T010000Z
X-MICROSOFT-CDO-ALLDAYEVENT:FALSE
SUMMARY:Tooele County Legislative Caucus Meetings
DESCRIPTION:Tooele County Commission\, County Legislative CaucusMeeting ScheduleWed. January 23rdWed. February 20thAll meetings begin at 5:00 p.m.
X-ALT-DESC;FMTTYPE=text/html:<div>Tooele County Commission\, County Legislative Caucus</div><div>Meeting Schedule</div><div>Wed. January 23rd</div><div>Wed. February 20th</div><div>All meetings begin at 5:00 p.m.</div><div>&nbsp\;</div><div>&nbsp\;</div>
LOCATION:Utah State Capital West BuildingRoom # 15Salt Lake City\, UT
UID:e.125.191
SEQUENCE:3
DTSTAMP:20260425T005219Z
URL:https://members.tooelechamber.com/events/details/tooele-county-legislative-caucus-meetings-01-23-2008-191
END:VEVENT

END:VCALENDAR
