BEGIN:VCALENDAR
VERSION:2.0
PRODID:-//ChamberMaster//Event Calendar 2.0//EN
METHOD:PUBLISH
X-PUBLISHED-TTL:P3D
REFRESH-INTERVAL:P3D
CALSCALE:GREGORIAN
BEGIN:VEVENT
DTSTART;VALUE=DATE:20140731
DTEND;VALUE=DATE:20140803
TRANSP:TRANSPARENT
X-MICROSOFT-CDO-ALLDAYEVENT:TRUE
SUMMARY:Tooele County Livestock Show
DESCRIPTION:2014 Tooele County Junior Livestock Show & Auction\n\nCome support our local youth at the County Fair.\n\nMany have worked long and hard raising these animals for auction.
X-ALT-DESC;FMTTYPE=text/html:2014 Tooele County Junior Livestock Show &amp\; Auction<br />\nCome support our local youth at the County Fair.<br />\nMany have worked long and hard raising these animals for auction.
LOCATION:Deseret Peak Complex (Inside Arena) 2930 Hwy 112 Tooele\, UT 84074
UID:e.125.5377
SEQUENCE:3
DTSTAMP:20260419T123239Z
URL:https://members.tooelechamber.com/events/details/tooele-county-livestock-show-07-31-2014-5377
END:VEVENT

END:VCALENDAR
