BEGIN:VCALENDAR
VERSION:2.0
PRODID:-//ChamberMaster//Event Calendar 2.0//EN
METHOD:PUBLISH
X-PUBLISHED-TTL:P3D
REFRESH-INTERVAL:P3D
CALSCALE:GREGORIAN
BEGIN:VEVENT
DTSTART:20100813T230000Z
DTEND:20100814T190000Z
X-MICROSOFT-CDO-ALLDAYEVENT:FALSE
SUMMARY:Tooele County Relay for Life
DESCRIPTION:Tooele County Relay for LifeAugust 13-14\, 20105pm to 1pmDeseret Peak Complex Soccer Field The American Cancer Society Relay for Life is a lif-changing event that gives everyone in communities across the globe a chance to  celebrate the lives of people who have battled cancer\, remember loved ones lost\, and fight back against the disease. Help us donate to the local Food Bank by bringing a can of food to use during the luminaria ceremony.
X-ALT-DESC;FMTTYPE=text/html:<div style="text-align: center"><span style="font-size: large"><span style="font-family: Verdana">Tooele County Relay for Life</span></span></div><div style="text-align: center"><span style="font-size: large"><span style="font-family: Verdana">August 13-14\, 2010</span></span></div><div style="text-align: center"><span style="font-size: large"><span style="font-family: Verdana">5pm to 1pm</span></span></div><div style="text-align: center"><span style="font-size: large"><span style="font-family: Verdana">Deseret Peak Complex Soccer Field</span></span></div><div style="text-align: center">&nbsp\;</div><div style="text-align: center"><span style="font-size: medium"><span style="font-family: Verdana">The American Cancer Society Relay for Life is a lif-changing event that gives everyone in communities across the globe a chance to&nbsp\; celebrate the lives of people who have battled cancer\, remember loved ones lost\, and fight back against the disease.</span></span></div><div style="text-align: center">&nbsp\;</div><div style="text-align: center"><span style="font-size: medium"><span style="font-family: Verdana">Help us donate to the local Food Bank by bringing a can of food to use during the luminaria ceremony.</span></span></div><div>&nbsp\;</div><div>&nbsp\;</div>
LOCATION:
UID:e.125.3213
SEQUENCE:3
DTSTAMP:20260422T234457Z
URL:https://members.tooelechamber.com/events/details/tooele-county-relay-for-life-08-13-2010-3213
END:VEVENT

END:VCALENDAR
