BEGIN:VCALENDAR
VERSION:2.0
PRODID:-//ChamberMaster//Event Calendar 2.0//EN
METHOD:PUBLISH
X-PUBLISHED-TTL:P3D
REFRESH-INTERVAL:P3D
CALSCALE:GREGORIAN
BEGIN:VEVENT
DTSTART:20110716T010000Z
DTEND:20110716T030000Z
X-MICROSOFT-CDO-ALLDAYEVENT:FALSE
SUMMARY:Tooele County Relay for Life Bra Auction
DESCRIPTION:The Sarcoma's Relay For Life Team is having a Silent Bra Auction to raise money for Cancer.  \n\n	 \n\n	They have hand crafted and donated one-of-a-kind art bras to be auctioned. All proceeds benefit the Tooele County Relay for Life. The blinged bras run the gamut of imagination and creativity\, from sequins and rhinestones\, feathers and fringe to flowers to patriotic and sports-themed bras\, and more...\n\n	 \n\n	Help us provide more birthday's to cancer patients.  We need your support to make this happen. \n\n	There will be a band T3 performing from 9pm til 1am\n\n	There will be drink and food specials as well.
X-ALT-DESC;FMTTYPE=text/html:<div>\n	The Sarcoma&#39\;s Relay For Life Team is having a Silent Bra Auction to raise money for Cancer. &nbsp\;</div>\n<div>\n	&nbsp\;</div>\n<div>\n	They have hand crafted and donated one-of-a-kind art bras to be auctioned. All proceeds benefit the Tooele County Relay for Life. The blinged bras run the gamut of imagination and creativity\, from sequins and rhinestones\, feathers and fringe to flowers to patriotic and sports-themed bras\, and more...</div>\n<div>\n	&nbsp\;</div>\n<div>\n	Help us provide more birthday&#39\;s to cancer patients. &nbsp\;We need your support to make this happen.&nbsp\;<br />\n	There will be a band T3 performing from 9pm til 1am<br />\n	There will be drink and food specials as well.</div>\n
LOCATION:All Star Lanes 1111 North 200 West
UID:e.125.3728
SEQUENCE:3
DTSTAMP:20260422T060303Z
URL:https://members.tooelechamber.com/events/details/tooele-county-relay-for-life-bra-auction-07-15-2011-3728
END:VEVENT

END:VCALENDAR
