BEGIN:VCALENDAR
VERSION:2.0
PRODID:-//ChamberMaster//Event Calendar 2.0//EN
METHOD:PUBLISH
X-PUBLISHED-TTL:P3D
REFRESH-INTERVAL:P3D
CALSCALE:GREGORIAN
BEGIN:VEVENT
DTSTART:20120316T010000Z
DTEND:20120316T040000Z
X-MICROSOFT-CDO-ALLDAYEVENT:FALSE
SUMMARY:Tooele County Republican neighborhood Caucus Meeting
DESCRIPTION:Tooele County Republican Party Neighborhood Caucus Meeting\n\n\n\nMarch 15\,2012\n\n7pm
X-ALT-DESC;FMTTYPE=text/html:<span style="font-size: 26px"><u><strong>Tooele County Republican Party Neighborhood Caucus Meeting</strong></u><br />\n<br />\n<strong>March 15\,2012<br />\n7pm </strong></span>
LOCATION:
UID:e.125.4832
SEQUENCE:3
DTSTAMP:20260421T190341Z
URL:https://members.tooelechamber.com/events/details/tooele-county-republican-neighborhood-caucus-meeting-03-15-2012-4832
END:VEVENT

END:VCALENDAR
