BEGIN:VCALENDAR
VERSION:2.0
PRODID:-//ChamberMaster//Event Calendar 2.0//EN
METHOD:PUBLISH
X-PUBLISHED-TTL:P3D
REFRESH-INTERVAL:P3D
CALSCALE:GREGORIAN
BEGIN:VEVENT
DTSTART:20100902T190000Z
DTEND:20100902T210000Z
X-MICROSOFT-CDO-ALLDAYEVENT:FALSE
SUMMARY:Tooele County School District Community Learning Center
DESCRIPTION:Tooele County School District Community Learning Center Grand Opening and Open HouseThursday\, September 2\, 2010 starting @ 1:00pmfar west end of 200 South
X-ALT-DESC;FMTTYPE=text/html:<div style="text-align: center"><span style="font-size: large">Tooele County School District </span></div><div style="text-align: center"><span style="font-size: large">Community Learning Center </span></div><div style="text-align: center"><span style="font-size: large">Grand Opening and Open House</span></div><div style="text-align: center"><span style="font-size: large">Thursday\, September 2\, 2010 starting @&nbsp\;1:00pm</span></div><div style="text-align: center"><span style="font-size: large">far west end of 200 South</span></div>
LOCATION:
UID:e.125.3222
SEQUENCE:3
DTSTAMP:20260422T220128Z
URL:https://members.tooelechamber.com/events/details/tooele-county-school-district-community-learning-center-09-02-2010-3222
END:VEVENT

END:VCALENDAR
