BEGIN:VCALENDAR
VERSION:2.0
PRODID:-//ChamberMaster//Event Calendar 2.0//EN
METHOD:PUBLISH
X-PUBLISHED-TTL:P3D
REFRESH-INTERVAL:P3D
CALSCALE:GREGORIAN
BEGIN:VEVENT
DTSTART;VALUE=DATE:20090903
DTEND;VALUE=DATE:20090906
TRANSP:TRANSPARENT
X-MICROSOFT-CDO-ALLDAYEVENT:TRUE
SUMMARY:Tooele County Showcase of Homes
DESCRIPTION:Tooele County Showcase of HomesContact: 435-241-0410cshowcaseofhomes@gmail.comBlogWebsite
X-ALT-DESC;FMTTYPE=text/html:<div><font face="Frutiger-LightCn" size="1"><font face="Frutiger-LightCn" size="1"><p align="center"><font size="4">Tooele County Showcase of Homes</font></p><p align="center"><font size="4">Contact: 435-241-0410</font></p><p align="center"><font size="4">cshowcaseofhomes@gmail.com</font></p><p align="center"><font size="4"><a href="http://tooelecountyshowcaseofhomes.blogspot.com">Blog</a></font></p><p align="center"><font size="4"><a href="http://tooelecountyshowcaseofhomes.webs.com">Website</a></font></p></font></font></div>
LOCATION:
UID:e.125.1220
SEQUENCE:3
DTSTAMP:20260423T164720Z
URL:https://members.tooelechamber.com/events/details/tooele-county-showcase-of-homes-09-03-2009-1220
END:VEVENT

END:VCALENDAR
