BEGIN:VCALENDAR
VERSION:2.0
PRODID:-//ChamberMaster//Event Calendar 2.0//EN
METHOD:PUBLISH
X-PUBLISHED-TTL:P3D
REFRESH-INTERVAL:P3D
CALSCALE:GREGORIAN
BEGIN:VEVENT
DTSTART;VALUE=DATE:20090910
DTEND;VALUE=DATE:20090913
TRANSP:TRANSPARENT
X-MICROSOFT-CDO-ALLDAYEVENT:TRUE
SUMMARY:Tooele County Showcase of Homes
DESCRIPTION:Tooele County Showcase of HomesContact: 435-241-0410cshowcaseofhomes@gmail.com
X-ALT-DESC;FMTTYPE=text/html:<div><font face="Frutiger-LightCn" size="1"><font face="Frutiger-LightCn" size="1"><p align="center"><font size="4">Tooele County Showcase of Homes</font></p><p align="center"><font size="4">Contact: 435-241-0410</font></p><p align="center"><font size="4">cshowcaseofhomes@gmail.com</font></p></font></font></div>
LOCATION:
UID:e.125.1221
SEQUENCE:3
DTSTAMP:20260423T164723Z
URL:https://members.tooelechamber.com/events/details/tooele-county-showcase-of-homes-09-10-2009-1221
END:VEVENT

END:VCALENDAR
