BEGIN:VCALENDAR
VERSION:2.0
PRODID:-//ChamberMaster//Event Calendar 2.0//EN
METHOD:PUBLISH
X-PUBLISHED-TTL:P3D
REFRESH-INTERVAL:P3D
CALSCALE:GREGORIAN
BEGIN:VEVENT
DTSTART;VALUE=DATE:20090829
DTEND;VALUE=DATE:20090830
TRANSP:TRANSPARENT
X-MICROSOFT-CDO-ALLDAYEVENT:TRUE
SUMMARY:Tooele County Trails
DESCRIPTION:Tooele County TrailsSouth Mountain Bicycle Trail RideSaturday\, August 29th 9amMeet at Stockton StationCorner of SR-36 and Silver AveNo charge for this event!Fridays on VineFriday August 7th\, 14th\, 21st\, 28thTooele City Park200 West Vine435-843-2104www.tooelecity.org/tdda
X-ALT-DESC;FMTTYPE=text/html:<div><b><font size="3"><p style="text-align: center"><span id="1249489866051S" style="display: none">&nbsp\;</span>Tooele County Trails</p></font><font face="Myriad Roman\,Myriad Roman" size="2"><font face="Myriad Roman\,Myriad Roman" size="2"><p style="text-align: center">South Mountain Bicycle Trail Ride</p><p style="text-align: center">Saturday\, August 29th 9am</p><p style="text-align: center">Meet at Stockton Station</p><p style="text-align: center">Corner of SR-36 and Silver Ave</p><p style="text-align: center">No charge for this event!</p><p style="text-align: center">Fridays on Vine</p><p style="text-align: center">Friday August 7th\, 14th\, 21st\, 28th</p><p style="text-align: center">Tooele City Park</p><p style="text-align: center">200 West Vine</p><p style="text-align: center">435-843-2104</p><p style="text-align: center">www.tooelecity.org/tdda<span id="1249489866242E" style="display: none">&nbsp\;</span></p></font></font></b></div>
LOCATION:
UID:e.125.2560
SEQUENCE:3
DTSTAMP:20260423T195844Z
URL:https://members.tooelechamber.com/events/details/tooele-county-trails-08-29-2009-2560
END:VEVENT

END:VCALENDAR
