BEGIN:VCALENDAR
VERSION:2.0
PRODID:-//ChamberMaster//Event Calendar 2.0//EN
METHOD:PUBLISH
X-PUBLISHED-TTL:P3D
REFRESH-INTERVAL:P3D
CALSCALE:GREGORIAN
BEGIN:VEVENT
DTSTART:20140716T013000Z
DTEND:20140716T040000Z
X-MICROSOFT-CDO-ALLDAYEVENT:FALSE
SUMMARY:Tooele County Transportation Fair
DESCRIPTION:Tooele County Transportation Fair
X-ALT-DESC;FMTTYPE=text/html:Tooele County Transportation Fair
LOCATION:Large Conference Room
UID:e.125.5481
SEQUENCE:3
DTSTAMP:20260419T162602Z
URL:https://members.tooelechamber.com/events/details/tooele-county-transportation-fair-07-15-2014-5481
END:VEVENT

END:VCALENDAR
