BEGIN:VCALENDAR
VERSION:2.0
PRODID:-//ChamberMaster//Event Calendar 2.0//EN
METHOD:PUBLISH
X-PUBLISHED-TTL:P3D
REFRESH-INTERVAL:P3D
CALSCALE:GREGORIAN
BEGIN:VEVENT
DTSTART:20071121T010000Z
DTEND:20071121T020000Z
X-MICROSOFT-CDO-ALLDAYEVENT:FALSE
SUMMARY:Tooele County Turkey Show and Sale 2007
DESCRIPTION:Businesses and individuals with a desire to support the youth of our county by donating to the auction or purchasing a bird are encouraged to come to the auction and participate.Those who purchase the birds may take them home for Thanksgiving dinner or may choose to donate them to a local charity of their choice.
X-ALT-DESC;FMTTYPE=text/html:<div align="center"><font face="Times New Roman" size="4">Businesses and individuals with a desire to support the youth of our county by donating to the auction or purchasing a bird are encouraged to come to the auction and participate.</font></div><div align="center"><font face="Times New Roman" size="4">Those who purchase the birds may take them home for Thanksgiving dinner or may choose to donate them to a local charity of their choice.</font></div><div>&nbsp\;</div><div>&nbsp\;</div>
LOCATION:The Turkey Auction will be held in the Tooele High School Lunchroom.
UID:e.125.174
SEQUENCE:3
DTSTAMP:20260425T040446Z
URL:https://members.tooelechamber.com/events/details/tooele-county-turkey-show-and-sale-2007-11-20-2007-174
END:VEVENT

END:VCALENDAR
