BEGIN:VCALENDAR
VERSION:2.0
PRODID:-//ChamberMaster//Event Calendar 2.0//EN
METHOD:PUBLISH
X-PUBLISHED-TTL:P3D
REFRESH-INTERVAL:P3D
CALSCALE:GREGORIAN
BEGIN:VEVENT
DTSTART:20080604T000000Z
DTEND:20080604T030000Z
X-MICROSOFT-CDO-ALLDAYEVENT:FALSE
SUMMARY:Tooele County Youth Soccer Sign Ups
DESCRIPTION:Tooele County Youth Soccer Sign UpsDates & TimesTuesday\, May 20th  6pm to 9pmSaturday\, May 24th  1pm to 5pmTuesday\, May 27th   6pm to 9pmSaturday\, May 31st   1pm to 5pmTuesday\, June 3rd   6pm to 9pm LocationMacey's Little Theatre972 N. Main St. Fee's$80 for U5-U8$90 for U8- 17 All sign ups after June 9th will have an additional $5.00 fee.After July it increases to $15.00They will also be signing up Referees
X-ALT-DESC;FMTTYPE=text/html:<div>Tooele County Youth Soccer Sign Ups</div><div>Dates &amp\; Times</div><div>Tuesday\, May 20th&nbsp\; 6pm to 9pm</div><div>Saturday\, May 24th&nbsp\; 1pm to 5pm</div><div>Tuesday\, May 27th&nbsp\;&nbsp\; 6pm to 9pm</div><div>Saturday\, May 31st&nbsp\;&nbsp\; 1pm to 5pm</div><div>Tuesday\, June 3rd&nbsp\;&nbsp\; 6pm to 9pm</div><div>&nbsp\;</div><div>Location</div><div>Macey's Little Theatre</div><div>972 N. Main St.</div><div>&nbsp\;</div><div>Fee's</div><div>$80 for U5-U8</div><div>$90 for U8- 17</div><div>&nbsp\;</div><div>All sign ups after June 9th will have an additional $5.00 fee.</div><div>After July it increases to $15.00</div><div>They will also be signing up Referees</div>
LOCATION:
UID:e.125.418
SEQUENCE:3
DTSTAMP:20260424T174840Z
URL:https://members.tooelechamber.com/events/details/tooele-county-youth-soccer-sign-ups-06-03-2008-418
END:VEVENT

END:VCALENDAR
