BEGIN:VCALENDAR
VERSION:2.0
PRODID:-//ChamberMaster//Event Calendar 2.0//EN
METHOD:PUBLISH
X-PUBLISHED-TTL:P3D
REFRESH-INTERVAL:P3D
CALSCALE:GREGORIAN
BEGIN:VEVENT
DTSTART:20130419T010000Z
DTEND:20130419T030000Z
X-MICROSOFT-CDO-ALLDAYEVENT:FALSE
SUMMARY:Tooele Democratic Party Organizing Convention
DESCRIPTION:Notice of the Organizing Convention of the Tooele County Democratic Party\n\n\n\nNotice is hereby given that the County Organizing Convention of the Democratic Party for Tooele County will be held at the Tooele County Chamber of Commerce Building in Tooele\, Utah at 7 o'clock P.M. on Thursday\, the 18th day of April\, 2013. At this Convention\, a County Chairperson\, Vice-Chairperson\, Secretary and Treasurer to serve for the ensuing two years will be chosen and other Party affairs may be considered. Delegates to this County Organizing Convention shall be the same persons who were seated as Delegates to the Tooele County Primary Convention which was held last year and who have not died\, resigned or been disqualified\, as well as any others officially appointed.\n\n\n\nA Central Committee Meeting will be held one hour prior to the Organizing Convention at the same location as the Convention.
X-ALT-DESC;FMTTYPE=text/html:<strong>Notice of the Organizing Convention of the Tooele County Democratic Party</strong><br />\n<br />\nNotice is hereby given that the County Organizing Convention of the Democratic Party for Tooele County will be held at the Tooele County Chamber of Commerce Building in Tooele\, Utah at 7 o&#39\;clock P.M. on Thursday\, the 18th day of April\, 2013. At this Convention\, a County Chairperson\, Vice-Chairperson\, Secretary and Treasurer to serve for the ensuing two years will be chosen and other Party affairs may be considered. Delegates to this County Organizing Convention shall be the same persons who were seated as Delegates to the Tooele County Primary Convention which was held last year and who have not died\, resigned or been disqualified\, as well as any others officially appointed.<br />\n<br />\nA Central Committee Meeting will be held one hour prior to the Organizing Convention at the same location as the Convention.
LOCATION:Tooele County Chamber of Commerce Building\, 154 S. Main Street\, Tooele\, Utah
UID:e.125.4997
SEQUENCE:3
DTSTAMP:20260420T200217Z
URL:https://members.tooelechamber.com/events/details/tooele-democratic-party-organizing-convention-04-18-2013-4997
END:VEVENT

END:VCALENDAR
