BEGIN:VCALENDAR
VERSION:2.0
PRODID:-//ChamberMaster//Event Calendar 2.0//EN
METHOD:PUBLISH
X-PUBLISHED-TTL:P3D
REFRESH-INTERVAL:P3D
CALSCALE:GREGORIAN
BEGIN:VEVENT
DTSTART:20140926T160000Z
DTEND:20140927T010000Z
X-MICROSOFT-CDO-ALLDAYEVENT:FALSE
SUMMARY:Tooele Gem & Mineral "Festival of the Old West"/Rock & Gem Show
DESCRIPTION:
X-ALT-DESC;FMTTYPE=text/html:
LOCATION:Dow James Building 400 North 400 West Tooele\, Utah
UID:e.125.5389
SEQUENCE:3
DTSTAMP:20260419T125636Z
URL:https://members.tooelechamber.com/events/details/tooele-gem-mineral-festival-of-the-old-west-rock-gem-show-09-26-2014-5389
END:VEVENT

END:VCALENDAR
