BEGIN:VCALENDAR
VERSION:2.0
PRODID:-//ChamberMaster//Event Calendar 2.0//EN
METHOD:PUBLISH
X-PUBLISHED-TTL:P3D
REFRESH-INTERVAL:P3D
CALSCALE:GREGORIAN
BEGIN:VEVENT
DTSTART:20120218T170000Z
DTEND:20120218T210000Z
X-MICROSOFT-CDO-ALLDAYEVENT:FALSE
SUMMARY:Tooele Girls Softball Sign Ups
DESCRIPTION:Tooele Girls Softball Sign Ups\n\nFor girls ages 5-18\n\nContact Info- tcgsoftball.org\n\n10 a.m. - 2 p.m.\n\n154 South Main
X-ALT-DESC;FMTTYPE=text/html:<span style="font-size: 20px"><strong>Tooele Girls Softball Sign Ups<br />\nFor girls ages 5-18<br />\nContact Info- tcgsoftball.org<br />\n10 a.m. - 2 p.m.<br />\n154 South Main</strong></span>
LOCATION:
UID:e.125.4629
SEQUENCE:3
DTSTAMP:20260421T203552Z
URL:https://members.tooelechamber.com/events/details/tooele-girls-softball-sign-ups-02-18-2012-4629
END:VEVENT

END:VCALENDAR
