BEGIN:VCALENDAR
VERSION:2.0
PRODID:-//ChamberMaster//Event Calendar 2.0//EN
METHOD:PUBLISH
X-PUBLISHED-TTL:P3D
REFRESH-INTERVAL:P3D
CALSCALE:GREGORIAN
BEGIN:VEVENT
DTSTART;VALUE=DATE:20110528
DTEND;VALUE=DATE:20110529
TRANSP:TRANSPARENT
X-MICROSOFT-CDO-ALLDAYEVENT:TRUE
SUMMARY:Tooele Graduation
DESCRIPTION:Tooele High School Graduation\n\nSaturday\, May 28\, 2011
X-ALT-DESC;FMTTYPE=text/html:Tooele High School Graduation<br />\nSaturday\, May 28\, 2011
LOCATION:
UID:e.125.3517
SEQUENCE:3
DTSTAMP:20260422T104357Z
URL:https://members.tooelechamber.com/events/details/tooele-graduation-05-28-2011-3517
END:VEVENT

END:VCALENDAR
