BEGIN:VCALENDAR
VERSION:2.0
PRODID:-//ChamberMaster//Event Calendar 2.0//EN
METHOD:PUBLISH
X-PUBLISHED-TTL:P3D
REFRESH-INTERVAL:P3D
CALSCALE:GREGORIAN
BEGIN:VEVENT
DTSTART:20110421T150000Z
DTEND:20110421T173000Z
X-MICROSOFT-CDO-ALLDAYEVENT:FALSE
SUMMARY:Tooele Job Readiness Workshops
DESCRIPTION:Tooele Job Readiness Workshops\n\n	from Department of Workforce Services \n\n	Thursday\, April 21\, 2011 from 9am-11:30am \nJob Searching with Technology - (Prerequisite must have computer skills AND activejobs.utah.gov registration PRIOR to attending workshop). Learn job searching techniques by using the best commercial jobs sites\, publish resume online\, research companies\, and learn advanced job search techniques.\n\n\n\nNO COST for these workshops!!\n\nTo register call 801-468-0123 or workshop@utah.gov\n\nplease provide your name\, phone number\, workshop title and date.\n\nWorkshops will start on time so please be 15 minutes early. Latecomers will have to reschedule.\n\n\n\n Location: Community Learning Center\n\n211 South Tooele Blvd.\, Room 201
X-ALT-DESC;FMTTYPE=text/html:<p>\n	<span style="font-size: 22px">Tooele Job Readiness Workshops<br />\n	from Department of Workforce Services </span></p>\n<p>\n	<span style="font-size: 22px">Thursday\, April&nbsp\;21\, 2011 from 9am-11:30am </span></p>\n<span style="font-size: 22px">Job Searching with Technology - (Prerequisite must have computer skills AND activejobs.utah.gov registration PRIOR to attending workshop). Learn job searching techniques by using the best commercial jobs sites\, publish resume online\, research companies\, and learn advanced job search techniques.<br />\n<br />\n<font size="5">NO COST for these workshops!!<br />\nTo register call 801-468-0123 or workshop@utah.gov<br />\nplease provide your name\, phone number\, workshop title and date.<br />\nWorkshops will start on time so please be 15 minutes early. Latecomers will have to reschedule.</font><br />\n<br />\n<span _fck_bookmark="1" style="display: none">&nbsp\;</span>Location: Community Learning Center<br />\n211 South Tooele Blvd.\, Room 201&nbsp\;</span><br />\n<span _fck_bookmark="1" style="display: none">&nbsp\;</span>
LOCATION:
UID:e.125.3653
SEQUENCE:3
DTSTAMP:20260422T110607Z
URL:https://members.tooelechamber.com/events/details/tooele-job-readiness-workshops-04-21-2011-3653
END:VEVENT

END:VCALENDAR
