BEGIN:VCALENDAR
VERSION:2.0
PRODID:-//ChamberMaster//Event Calendar 2.0//EN
METHOD:PUBLISH
X-PUBLISHED-TTL:P3D
REFRESH-INTERVAL:P3D
CALSCALE:GREGORIAN
BEGIN:VEVENT
DTSTART:20110421T190000Z
DTEND:20110421T213000Z
X-MICROSOFT-CDO-ALLDAYEVENT:FALSE
SUMMARY:Tooele Job Readiness Workshops
DESCRIPTION:Tooele Job Readiness Workshops\n\n	from Department of Workforce Services \n\n	Thursday\, April 21\, 2011 from 1pm-3:30pm \nPersonal Breanding - Learn how to market yourself effectively to employers through image management. Complete Career-fit assesments\, develop marketing messages\, and understand the benefits of having a role model. \n\n\n\nNO COST for these workshops!!\n\nTo register call 801-468-0123 or workshop@utah.gov\n\nplease provide your name\, phone number\, workshop title and date.\n\nWorkshops will start on time so please be 15 minutes early. Latecomers will have to reschedule.\n\n\n\nLocation: Community Learning Center\n\n211 South Tooele Blvd.\, Room 206
X-ALT-DESC;FMTTYPE=text/html:<p>\n	<span style="font-size: 22px">Tooele Job Readiness Workshops<br />\n	from Department of Workforce Services </span></p>\n<p>\n	<span style="font-size: 22px">Thursday\, April 21\, 2011 from 1pm-3:30pm </span></p>\n<span style="font-size: 22px">Personal Breanding - Learn how to market yourself effectively to employers through image management. Complete Career-fit assesments\, develop marketing messages\, and understand the benefits of having a role model.&nbsp\;<br />\n<br />\nNO COST for these workshops!!<br />\nTo register call 801-468-0123 or workshop@utah.gov<br />\nplease provide your name\, phone number\, workshop title and date.<br />\nWorkshops will start on time so please be 15 minutes early. Latecomers will have to reschedule.<br />\n<br />\nLocation: Community Learning Center<br />\n211 South Tooele Blvd.\, Room 206&nbsp\;</span><br />\n<span _fck_bookmark="1" style="display: none">&nbsp\;</span>
LOCATION:
UID:e.125.3654
SEQUENCE:3
DTSTAMP:20260422T110554Z
URL:https://members.tooelechamber.com/events/details/tooele-job-readiness-workshops-04-21-2011-3654
END:VEVENT

END:VCALENDAR
