BEGIN:VCALENDAR
VERSION:2.0
PRODID:-//ChamberMaster//Event Calendar 2.0//EN
METHOD:PUBLISH
X-PUBLISHED-TTL:P3D
REFRESH-INTERVAL:P3D
CALSCALE:GREGORIAN
BEGIN:VEVENT
DTSTART:20110602T150000Z
DTEND:20110602T213000Z
X-MICROSOFT-CDO-ALLDAYEVENT:FALSE
SUMMARY:Tooele Job Readiness Workshops
DESCRIPTION:Tooele Job Readiness Workshops\n\n	Thursday\, June 2\, 2011\n\n	Tooele Community Learning Center\n\n	211 South Tooele Blvd.\n\n	Skill Identification (room 201) from 9am -11:30am\n\n	Job Searching with Technology (room 201) from 1pm-3:30pm\n\n	Workshops will start on time so please arrive 15 minutes early - latecomers will need to reschedule\n\n	Register TODAY! - NO COST!\n\n	801-468-0132 or worshops@utah.gov or visit your nearest employment center
X-ALT-DESC;FMTTYPE=text/html:<p style="text-align: center">\n	<span style="font-size: 20px">Tooele Job Readiness Workshops<br />\n	Thursday\, June 2\, 2011<br />\n	Tooele Community Learning Center<br />\n	211 South Tooele Blvd.<br />\n	Skill Identification (room 201) from 9am -11:30am<br />\n	Job Searching with Technology (room 201) from 1pm-3:30pm<br />\n	Workshops will start on time so please arrive 15 minutes early - latecomers will need to reschedule<br />\n	Register TODAY! - NO COST!<br />\n	801-468-0132 or <a href="mailto:worshops@utah.gov">worshops@utah.gov</a> or visit your nearest employment center </span></p>\n
LOCATION:
UID:e.125.3718
SEQUENCE:3
DTSTAMP:20260422T074636Z
URL:https://members.tooelechamber.com/events/details/tooele-job-readiness-workshops-06-02-2011-3718
END:VEVENT

END:VCALENDAR
