BEGIN:VCALENDAR
VERSION:2.0
PRODID:-//ChamberMaster//Event Calendar 2.0//EN
METHOD:PUBLISH
X-PUBLISHED-TTL:P3D
REFRESH-INTERVAL:P3D
CALSCALE:GREGORIAN
BEGIN:VEVENT
DTSTART:20070520T010000Z
DTEND:20070519T180000Z
X-MICROSOFT-CDO-ALLDAYEVENT:FALSE
SUMMARY:Tooele Rotary Club Fundraiser Concert
DESCRIPTION:Let's raise money for Riley!!\\Preston Lloyd Swing Band Pick up tickets at Tooele Dental Associates668 Garden Street\, Tooele
X-ALT-DESC;FMTTYPE=text/html:<div>Let&rsquo\;s raise money for Riley!!\\</div><div>Preston Lloyd Swing Band</div><div>&nbsp\;</div><div>Pick up tickets at Tooele Dental Associates</div><div>668 Garden Street\, Tooele</div>
LOCATION:Tooele Senior Citizens Center59 E. Vine St.\, Tooele
UID:e.125.373
SEQUENCE:3
DTSTAMP:20260425T125500Z
URL:https://members.tooelechamber.com/events/details/tooele-rotary-club-fundraiser-concert-05-19-2007-373
END:VEVENT

END:VCALENDAR
