BEGIN:VCALENDAR
VERSION:2.0
PRODID:-//ChamberMaster//Event Calendar 2.0//EN
METHOD:PUBLISH
X-PUBLISHED-TTL:P3D
REFRESH-INTERVAL:P3D
CALSCALE:GREGORIAN
BEGIN:VEVENT
DTSTART:20140628T000000Z
DTEND:20140628T010000Z
X-MICROSOFT-CDO-ALLDAYEVENT:FALSE
SUMMARY:Tooele Tri Kid's Triathlon Starts at the Swimming Pool Park
DESCRIPTION:Triathlon for kids 12 and Under\n\nRegister at Tooele City Hall or the Pratt Aquatic Center. Online registration forms and face info is available at www.toolecity.org or contatct (435) 843-2142 or terras@tooelecity.org
X-ALT-DESC;FMTTYPE=text/html:Triathlon for kids 12 and Under<br />\nRegister at Tooele City Hall or the Pratt Aquatic Center. Online registration forms and face info is available at www.toolecity.org or contatct (435) 843-2142 or terras@tooelecity.org
LOCATION:200 West Vine Street
UID:e.125.5333
SEQUENCE:3
DTSTAMP:20260419T163638Z
URL:https://members.tooelechamber.com/events/details/tooele-tri-kid-s-triathlon-starts-at-the-swimming-pool-park-06-27-2014-5333
END:VEVENT

END:VCALENDAR
