BEGIN:VCALENDAR
VERSION:2.0
PRODID:-//ChamberMaster//Event Calendar 2.0//EN
METHOD:PUBLISH
X-PUBLISHED-TTL:P3D
REFRESH-INTERVAL:P3D
CALSCALE:GREGORIAN
BEGIN:VEVENT
DTSTART:20100406T150000Z
DTEND:20100406T180000Z
X-MICROSOFT-CDO-ALLDAYEVENT:FALSE
SUMMARY:Tooele Valley Business Breakfast
DESCRIPTION:Miller Motorsports Park Tooele Valley Business Breakfast April 6\, 2010 @ 9:00am Miller Motorsports Park ClubhousePlease RSVP by March 26\, 2010 to Dixon Hunt (435)277-8019 or dhunt@millermotorsportspark.comWe will be discussing our fun & exciting schedule of major race events for 2010 and the impact they have on our community!
X-ALT-DESC;FMTTYPE=text/html:<div style="text-align: center"><strong><span style="font-size: large">Miller Motorsports Park </span></strong></div><div style="text-align: center"><strong><span style="font-size: large">Tooele Valley Business Breakfast </span></strong></div><div style="text-align: center"><span style="font-size: medium">April 6\, 2010 @ 9:00am </span></div><div style="text-align: center"><span style="font-size: medium">Miller Motorsports Park Clubhouse</span></div><div style="text-align: center"><span style="font-size: medium">Please RSVP by March 26\, 2010 to Dixon Hunt </span></div><div style="text-align: center"><span style="font-size: medium">(435)277-8019 or </span><a href="mailto:dhunt@millermotorsportspark.com"><u><span style="font-size: medium">dhunt@millermotorsportspark.com</span></u></a></div><div style="text-align: center"><span style="font-size: medium">We will be discussing our fun &amp\; exciting schedule of major race events for 2010 and the impact they have on our community!</span></div>
LOCATION:
UID:e.125.3120
SEQUENCE:3
DTSTAMP:20260423T062844Z
URL:https://members.tooelechamber.com/events/details/tooele-valley-business-breakfast-04-06-2010-3120
END:VEVENT

END:VCALENDAR
