BEGIN:VCALENDAR
VERSION:2.0
PRODID:-//ChamberMaster//Event Calendar 2.0//EN
METHOD:PUBLISH
X-PUBLISHED-TTL:P3D
REFRESH-INTERVAL:P3D
CALSCALE:GREGORIAN
BEGIN:VEVENT
DTSTART:20120623T150000Z
DTEND:20120623T180000Z
X-MICROSOFT-CDO-ALLDAYEVENT:FALSE
SUMMARY:Tooele Valley Spring Garden
DESCRIPTION:Tooele Valley Spring Garden Tour.\n\n\n\nStarting at 9am.
X-ALT-DESC;FMTTYPE=text/html:<span style="font-size: 20px"><strong><u>Tooele Valley Spring Garden Tour.</u><br />\n<br />\nStarting at 9am.</strong></span>
LOCATION:
UID:e.125.4859
SEQUENCE:3
DTSTAMP:20260421T122158Z
URL:https://members.tooelechamber.com/events/details/tooele-valley-spring-garden-06-23-2012-4859
END:VEVENT

END:VCALENDAR
