BEGIN:VCALENDAR
VERSION:2.0
PRODID:-//ChamberMaster//Event Calendar 2.0//EN
METHOD:PUBLISH
X-PUBLISHED-TTL:P3D
REFRESH-INTERVAL:P3D
CALSCALE:GREGORIAN
BEGIN:VEVENT
DTSTART:20140628T130000Z
DTEND:20140628T180000Z
X-MICROSOFT-CDO-ALLDAYEVENT:FALSE
SUMMARY:Tooelel Tri Sprint Triathlon starst at the Swimming Pool park
DESCRIPTION:Triathlon Sprint will be a 5k run\, 10 mile bike and 400 yard swim\n\nRegister at Tooele City Hall or the Pratt Aquatic Center. Online registration forms and race info is avaialble at www.tooelecity.org or contact (435) 843-2142 or terras@tooelecity.org
X-ALT-DESC;FMTTYPE=text/html:Triathlon Sprint will be a 5k run\, 10 mile bike and 400 yard swim<br />\nRegister at Tooele City Hall or the Pratt Aquatic Center. Online registration forms and race info is avaialble at www.tooelecity.org or contact (435) 843-2142 or terras@tooelecity.org
LOCATION:200 West Vine Street
UID:e.125.5335
SEQUENCE:3
DTSTAMP:20260419T163517Z
URL:https://members.tooelechamber.com/events/details/tooelel-tri-sprint-triathlon-starst-at-the-swimming-pool-park-06-28-2014-5335
END:VEVENT

END:VCALENDAR
