BEGIN:VCALENDAR
VERSION:2.0
PRODID:-//ChamberMaster//Event Calendar 2.0//EN
METHOD:PUBLISH
X-PUBLISHED-TTL:P3D
REFRESH-INTERVAL:P3D
CALSCALE:GREGORIAN
BEGIN:VEVENT
DTSTART:20110129T213000Z
DTEND:20110129T233000Z
X-MICROSOFT-CDO-ALLDAYEVENT:FALSE
SUMMARY:tooelemommies 3rd b-day bash
DESCRIPTION:St. Barnabas Church 1784 N. Aron Dr. Tooele Utah \n\nBring your families and come help us celebrate 3 years of our site\, Tooelemommies.com. We will be serving hotdogs. Bring a side dish to share if you would like. \n\nBring your decorated cakes to be entered in to the cake contest. Be sure to include Tooelemommies on the cake! \n\nHope to see you there!! \n\n\n\nREMEMBER: you need to have tooelemommmies somewhere on those cakes!
X-ALT-DESC;FMTTYPE=text/html:St. Barnabas Church 1784 N. Aron Dr. Tooele Utah \n<br>Bring your families and come help us celebrate 3 years of our site\, Tooelemommies.com. We will be serving hotdogs. Bring a side dish to share if you would like. \n<br>Bring your decorated cakes to be entered in to the cake contest. Be sure to include Tooelemommies on the cake! \n<br>Hope to see you there!! \n<br>\n<br>REMEMBER: you need to have tooelemommmies somewhere on those cakes!\n<br>
LOCATION:St. Barnabas Church 1784 N. Aron Dr. Tooele Utah
UID:e.125.3603
SEQUENCE:3
DTSTAMP:20260422T154052Z
URL:https://members.tooelechamber.com/events/details/tooelemommies-3rd-b-day-bash-01-29-2011-3603
END:VEVENT

END:VCALENDAR
