BEGIN:VCALENDAR
VERSION:2.0
PRODID:-//ChamberMaster//Event Calendar 2.0//EN
METHOD:PUBLISH
X-PUBLISHED-TTL:P3D
REFRESH-INTERVAL:P3D
CALSCALE:GREGORIAN
BEGIN:VEVENT
DTSTART;VALUE=DATE:20090131
DTEND;VALUE=DATE:20090201
TRANSP:TRANSPARENT
X-MICROSOFT-CDO-ALLDAYEVENT:TRUE
SUMMARY:TooeleMommies.com Turns 1!
DESCRIPTION:TooeleMommies.com Birthday\nJan 31\, 2009\n11am-2pm \nNational Guard Armory\nLight Lunch until 12:30pm\nCake decorating contest\, games\, crafts and more!\nFor the entire family! \nFor more info contact shannon@tooelemommies.com
X-ALT-DESC;FMTTYPE=text/html:<p align="center"><font size="3">&nbsp\;</font><strong><font size="3">TooeleMommies.com Birthday<br />Jan 31\, 2009<br />11am-2pm <br />National Guard Armory<br />Light Lunch until 12:30pm<br />Cake decorating contest\, games\, crafts and more!<br />For the entire family! <br />For more info contact </font><a href="mailto:shannon@tooelemommies.com"><font size="3">shannon@tooelemommies.com</font></a></strong></p>
LOCATION:
UID:e.125.525
SEQUENCE:3
DTSTAMP:20260424T054711Z
URL:https://members.tooelechamber.com/events/details/tooelemommies-com-turns-1-01-31-2009-525
END:VEVENT

END:VCALENDAR
