BEGIN:VCALENDAR
VERSION:2.0
PRODID:-//ChamberMaster//Event Calendar 2.0//EN
METHOD:PUBLISH
X-PUBLISHED-TTL:P3D
REFRESH-INTERVAL:P3D
CALSCALE:GREGORIAN
BEGIN:VEVENT
DTSTART:20101028T000000Z
DTEND:20101028T020000Z
X-MICROSOFT-CDO-ALLDAYEVENT:FALSE
SUMMARY:TooeleMommies Trunk or Treat
DESCRIPTION:TooeleMommies.com 2nd Annual Trunk or Treat \n\n	\n\n	Dress up your little ghosts and ghouls (ok\, and your princesses too) for the TooeleMommies Trunk or Treat! \n\n	\n\n	Wednesday October 27th at 6pm! We will begin trunk or treating at 6:30 so please make sure you are parked in the parking lot before then for the safety of our kids! \n\n	\n\n	Location: Rose Springs Elementary\,5349 Innsbrook Place in Stansbury Park \n\n	\n\n	This event is free and open to the public! All we ask is that you bring candy with you to pass out\, even if your car is not decorated! \n\n	\n\n	There will be a prize for the best decorated trunk and a costume contest for the kids! \n\n	\n\n	-SquawkBox Sound will be DJing with lots of spooky music and games! \n\n	-Mancave by Paul will be serving haunted hot dogs and donating part of the proceeds to TooeleMommies \n\n	-There will be a photo area where you can get some FREE pictures taken of your children! \n\n	\n\n	PLEASE PLEASE PLEASE\, bring enough candy. We're expecting a pretty big turn out\, so if you buy too much\, you can just use it for Halloween!
X-ALT-DESC;FMTTYPE=text/html:<p class="MsoNormal" style="text-align: center\; margin: 0in 0in 12pt">\n	<u><span style="font-size: 22px"><span class="postbody"><b><span style="font-family: 'arial'\, 'sans-serif'\; color: black">TooeleMommies.com 2nd Annual Trunk or Treat</span></b></span><span class="postbody"><span style="font-family: 'arial'\, 'sans-serif'\; color: black"> </span></span></span></u><br />\n	<br />\n	<span style="font-family: 'arial'\, 'sans-serif'\; color: black\; font-size: 10pt"><span class="postbody">Dress up your little ghosts and ghouls (ok\, and your princesses too) for the TooeleMommies Trunk or Treat! </span><br />\n	<br />\n	<span class="postbody">Wednesday October 27th at 6pm! We will begin trunk or treating at 6:30 so please make sure you are parked in the parking lot before then for the safety of our kids! </span><br />\n	<br />\n	<span class="postbody">Location: Rose Springs Elementary\,5349 Innsbrook Place in Stansbury Park </span><br />\n	<br />\n	<span class="postbody">This event is free and open to the public! All we ask is that you bring candy with you to pass out\, even if your car is not decorated! </span><br />\n	<br />\n	<span class="postbody">There will be a prize for the best decorated trunk and a costume contest for the kids! </span><br />\n	<br />\n	<span class="postbody">-SquawkBox Sound will be DJing with lots of spooky music and games! </span><br />\n	<span class="postbody">-Mancave by Paul will be serving haunted hot dogs and donating part of the proceeds to TooeleMommies </span><br />\n	<span class="postbody">-There will be a photo area where you can get some FREE pictures taken of your children! </span><br />\n	<br />\n	<span class="postbody">PLEASE PLEASE PLEASE\, bring enough candy. We&#39\;re expecting a pretty big turn out\, so if you buy too much\, you can just use it for Halloween! </span><o:p></o:p></span></p>\n
LOCATION:
UID:e.125.3262
SEQUENCE:3
DTSTAMP:20260422T220317Z
URL:https://members.tooelechamber.com/events/details/tooelemommies-trunk-or-treat-10-27-2010-3262
END:VEVENT

END:VCALENDAR
