BEGIN:VCALENDAR
VERSION:2.0
PRODID:-//ChamberMaster//Event Calendar 2.0//EN
METHOD:PUBLISH
X-PUBLISHED-TTL:P3D
REFRESH-INTERVAL:P3D
CALSCALE:GREGORIAN
BEGIN:VEVENT
DTSTART;VALUE=DATE:20100410
DTEND;VALUE=DATE:20100412
TRANSP:TRANSPARENT
X-MICROSOFT-CDO-ALLDAYEVENT:TRUE
SUMMARY:Tour of the Depot
DESCRIPTION:STAGE RACE - APRIL 10-11\, 2010 - TOOELE\, UTPresented byCYCLINGA UTAH CYCLING ASSOCIATION POINTS SERIES EVENT - USAC PERMIT PENDINGFor complete details andinstructions\, please visit:www.tourofthedepot.comNow in its third year\, the Tour of the Depot is the premier spring Stage Race of the Mountain Region located in Tooele\, UT - 35 miles west of Salt Lake City. \n\nWe've refined the event into a fun and challenging race with all stage starts and finishes within a few blocks of each other. Saturday's Stages 1 & 2 are unchanged from 2009\, while Stage 3 on Sunday morning has some updated courses for the longer races\, including a new epic course for the Cat 1/2 Men with two significant climbs.
X-ALT-DESC;FMTTYPE=text/html:<div><font size="7" face="Stencil"><font size="5" face="Stencil"><p align="center">STAGE RACE - APRIL 10-11\, 2010 - TOOELE\, UT</p></font></font><font size="6" face="TimesNewRoman"><font size="6" face="TimesNewRoman"><p align="center">Presented by</p></font></font><font size="7" face="ArialBlack"><font size="6" face="ArialBlack"><p align="center">CYCLING</p></font></font><font size="4" face="Stencil"><font size="4" face="Stencil"><p align="center">A UTAH CYCLING ASSOCIATION POINTS SERIES EVENT - USAC PERMIT PENDING</p></font></font><font size="5" face="TimesNewRoman"><font size="5" face="TimesNewRoman"><p align="center">For complete details and</p><p align="center">instructions\, please visit:</p></font></font><font color="#0000ff" size="6" face="TimesNewRoman"><font color="#0000ff" size="6" face="TimesNewRoman"><font color="#0000ff" size="6" face="TimesNewRoman"><p align="center">www.tourofthedepot.com</p></font></font></font><font size="4" face="TimesNewRoman"><font size="4" face="Verdana"><p align="center">Now in its third year\, the Tour of the Depot is the premier spring Stage Race of the Mountain Region located in Tooele\, UT - 35 miles west of Salt Lake City. <br /><br />We've refined the event into a fun and challenging race with all stage starts and finishes within a few blocks of each other. Saturday&rsquo\;s Stages 1 &amp\; 2 are unchanged from 2009\, while Stage 3 on Sunday morning has some updated courses for the longer races\, including a new epic course for the Cat 1/2 Men with two significant climbs.&nbsp\;</p></font></font></div>
LOCATION:What's CHANGED Here's what's been updated for the 2010 event: The Mens Pro/1/2 Road Race on Sunday is now an epic 93 miles. The route will climb over Johnsons Pass into Skull Valley at the south end of the course\, make a loop near Dugway and return over the pass. The final 30 miles along Mormon Trail Road and thorough Grantsville are unchaged from last year. The Womens 1/2/3 event has an increased cash purse and their Road Race on Sunday is 63 miles. Tooele has built a brand new road just for the finish of our race! (at least we can tell ourselves that)The new 1000 N extension from Hwy 112 to Main St (Hwy 36) will be the final 2 km of the Stage 3 road race - bringing riders to the finish which will be less than 1km from the start. All Road Races on Sunday will only cross the Rail Road tracks one time at the 15 mile mark - minimizing the chance of the races being disrupted by a rogue train. Masters 35+ and 45+ will be run together with one larger cash purse for the group - including cash to stage winners. They will be registered and scored sperately for UCA points scoring only. This Masters group will have an Intermediate Sprint in the Circuit and Road Races.
UID:e.125.545
SEQUENCE:3
DTSTAMP:20260423T075904Z
URL:https://members.tooelechamber.com/events/details/tour-of-the-depot-04-10-2010-545
END:VEVENT

END:VCALENDAR
