BEGIN:VCALENDAR
VERSION:2.0
PRODID:-//ChamberMaster//Event Calendar 2.0//EN
METHOD:PUBLISH
X-PUBLISHED-TTL:P3D
REFRESH-INTERVAL:P3D
CALSCALE:GREGORIAN
BEGIN:VEVENT
DTSTART:20131205T080000Z
DTEND:20131205T090000Z
X-MICROSOFT-CDO-ALLDAYEVENT:FALSE
SUMMARY:Town Council Work Meeting
DESCRIPTION:Codification Discussion
X-ALT-DESC;FMTTYPE=text/html:Codification Discussion 
LOCATION:18 N Johnson St. Stockton\, Utah
UID:e.125.5679
SEQUENCE:3
DTSTAMP:20260420T035233Z
URL:https://members.tooelechamber.com/events/details/town-council-work-meeting-12-05-2013-5679
END:VEVENT

END:VCALENDAR
