BEGIN:VCALENDAR
VERSION:2.0
PRODID:-//ChamberMaster//Event Calendar 2.0//EN
METHOD:PUBLISH
X-PUBLISHED-TTL:P3D
REFRESH-INTERVAL:P3D
CALSCALE:GREGORIAN
BEGIN:VEVENT
DTSTART:20121205T020000Z
DTEND:20121205T030000Z
X-MICROSOFT-CDO-ALLDAYEVENT:FALSE
SUMMARY:Town of Ophir Council Meetings
DESCRIPTION:Town of Ophir Council Meetings\n\n7-8 p.m.
X-ALT-DESC;FMTTYPE=text/html:<strong><span style="font-size: 20px">Town of Ophir Council Meetings<br />\n7-8 p.m.</span></strong>
LOCATION:
UID:e.125.4722
SEQUENCE:3
DTSTAMP:20260421T013939Z
URL:https://members.tooelechamber.com/events/details/town-of-ophir-council-meetings-12-04-2012-4722
END:VEVENT

END:VCALENDAR
