BEGIN:VCALENDAR
VERSION:2.0
PRODID:-//ChamberMaster//Event Calendar 2.0//EN
METHOD:PUBLISH
X-PUBLISHED-TTL:P3D
REFRESH-INTERVAL:P3D
CALSCALE:GREGORIAN
BEGIN:VEVENT
DTSTART:20080411T000000Z
DTEND:20080411T000000Z
X-MICROSOFT-CDO-ALLDAYEVENT:FALSE
SUMMARY:''Track your Money: Budget'' Financial Seminar
DESCRIPTION:Adults\, attend a free personal financial seminar of "Track Your Money: Budget"
X-ALT-DESC;FMTTYPE=text/html:<p>Adults\, attend a free personal financial seminar of &quot\;Track Your Money: Budget&quot\;</p>
LOCATION:Tooele City Library128 W. Vine Street\, Tooele
UID:e.125.380
SEQUENCE:3
DTSTAMP:20260424T215925Z
URL:https://members.tooelechamber.com/events/details/track-your-money-budget-financial-seminar-04-10-2008-380
END:VEVENT

END:VCALENDAR
