BEGIN:VCALENDAR
VERSION:2.0
PRODID:-//ChamberMaster//Event Calendar 2.0//EN
METHOD:PUBLISH
X-PUBLISHED-TTL:P3D
REFRESH-INTERVAL:P3D
CALSCALE:GREGORIAN
BEGIN:VEVENT
DTSTART;VALUE=DATE:20080927
DTEND;VALUE=DATE:20080928
TRANSP:TRANSPARENT
X-MICROSOFT-CDO-ALLDAYEVENT:TRUE
SUMMARY:Tracks Canyon Clean Up
DESCRIPTION:- Tracks Canyon Clean up come help us clean up one of our local canyons
X-ALT-DESC;FMTTYPE=text/html:<p class="MsoNormal" style="margin: 0in 0in 0pt"><span style="font-size: 12pt"><font face="Times New Roman">- Tracks Canyon Clean up come help us clean up one of our local canyons <o:p></o:p></font></span></p>
LOCATION:
UID:e.125.403
SEQUENCE:3
DTSTAMP:20260424T122659Z
URL:https://members.tooelechamber.com/events/details/tracks-canyon-clean-up-09-27-2008-403
END:VEVENT

END:VCALENDAR
